BEGIN:VCALENDAR
VERSION:2.0
PRODID:-//SVP Luzern //NONSGML Events //EN
CALSCALE:GREGORIAN
X-WR-CALNAME:SVP Luzern
BEGIN:VEVENT
CREATED:20191029T094932Z
UID:16174
DTEND:20200816T000000
DTSTART:20200706T000000
DTSTAMP:20231024T060440Z
LOCATION:
DESCRIPTION:
SUMMARY:Schulferien Kanton Luzern
ORGANIZER:
URL;VALUE=URI:https://www.svp-lu.ch/termine/schulferien-kanton-luzern-12/
TRANSP:OPAQUE
END:VEVENT
END:VCALENDAR
