BEGIN:VCALENDAR
VERSION:2.0
PRODID:-//SVP Luzern //NONSGML Events //EN
CALSCALE:GREGORIAN
X-WR-CALNAME:SVP Luzern
BEGIN:VEVENT
CREATED:20191029T094932Z
UID:16177
DTEND:20200808T000000
DTSTART:20200808T000000
DTSTAMP:20231024T055423Z
LOCATION:
DESCRIPTION:
SUMMARY:Redaktionsschluss „SVP NEWS“
ORGANIZER:
URL;VALUE=URI:https://www.svp-lu.ch/termine/redaktionsschluss-svp-news-8/
TRANSP:OPAQUE
END:VEVENT
END:VCALENDAR
