BEGIN:VCALENDAR
VERSION:2.0
PRODID:-//SVP Luzern //NONSGML Events //EN
CALSCALE:GREGORIAN
X-WR-CALNAME:SVP Luzern
BEGIN:VEVENT
CREATED:20191029T094932Z
UID:16178
DTEND:20200818T220000
DTSTART:20200818T160000
DTSTAMP:20231024T055210Z
LOCATION:WK Entlebuch
DESCRIPTION:
SUMMARY:GL-Sitzung 2020/07
ORGANIZER:
URL;VALUE=URI:https://www.svp-lu.ch/termine/gl-sitzung-2020-04-2/
TRANSP:OPAQUE
END:VEVENT
END:VCALENDAR
