BEGIN:VCALENDAR
VERSION:2.0
PRODID:-//SVP Luzern //NONSGML Events //EN
CALSCALE:GREGORIAN
X-WR-CALNAME:SVP Luzern
BEGIN:VEVENT
CREATED:20191029T094932Z
UID:16181
DTEND:20200823T000000
DTSTART:20200821T000000
DTSTAMP:20231024T060033Z
LOCATION:Lugano
DESCRIPTION:
SUMMARY:Auslandschweizer-Kongress
ORGANIZER:
URL;VALUE=URI:https://www.svp-lu.ch/termine/auslandschweizer-kongress-2/
TRANSP:OPAQUE
END:VEVENT
END:VCALENDAR
