BEGIN:VCALENDAR
VERSION:2.0
PRODID:-//SVP Luzern //NONSGML Events //EN
CALSCALE:GREGORIAN
X-WR-CALNAME:SVP Luzern
BEGIN:VEVENT
CREATED:20191029T094932Z
UID:16185
DTEND:20200829T133000
DTSTART:20200829T110000
DTSTAMP:20231024T060303Z
LOCATION:Schulanlage / MZH\, Dorfstrasse\, 6205 Eich
DESCRIPTION:Vorgängig zur Delegiertenversammlung findet die jährliche Generalver
SUMMARY:Kant. Delegiertenversammlung
ORGANIZER:SVP Wahlkreis Sursee
URL;VALUE=URI:https://www.svp-lu.ch/termine/kant-delegiertenversammlung-8/
TRANSP:OPAQUE
END:VEVENT
END:VCALENDAR
