BEGIN:VCALENDAR
VERSION:2.0
PRODID:-//SVP Luzern //NONSGML Events //EN
CALSCALE:GREGORIAN
X-WR-CALNAME:SVP Luzern
BEGIN:VEVENT
CREATED:20191029T094932Z
UID:16186
DTEND:20200902T000000
DTSTART:20200902T000000
DTSTAMP:20231024T055736Z
LOCATION:WK Sursee
DESCRIPTION:
SUMMARY:Kant. Fraktionssitzung
ORGANIZER:
URL;VALUE=URI:https://www.svp-lu.ch/termine/kant-fraktionssitzung-12/
TRANSP:OPAQUE
END:VEVENT
END:VCALENDAR
