BEGIN:VCALENDAR
VERSION:2.0
PRODID:-//SVP Luzern //NONSGML Events //EN
CALSCALE:GREGORIAN
X-WR-CALNAME:SVP Luzern
BEGIN:VEVENT
CREATED:20191029T094932Z
UID:16189
DTEND:20200904T190000
DTSTART:20200904T180000
DTSTAMP:20231024T055254Z
LOCATION:Restaurant Schlacht in Sempach
DESCRIPTION:Bitte umgehend ANMELDEN (Berücksichtigung nach Anmeldeeingang / Teiln
SUMMARY:Sempachertag (Traditioneller Parteianlass)
ORGANIZER:WKP Sursee
URL;VALUE=URI:https://www.svp-lu.ch/termine/sempachertag-traditioneller-parteianlass-2/
TRANSP:OPAQUE
END:VEVENT
END:VCALENDAR
