BEGIN:VCALENDAR
VERSION:2.0
PRODID:-//SVP Luzern //NONSGML Events //EN
CALSCALE:GREGORIAN
X-WR-CALNAME:SVP Luzern
BEGIN:VEVENT
CREATED:20191029T094933Z
UID:16192
DTEND:20200908T130000
DTSTART:20200908T120000
DTSTAMP:20231024T054849Z
LOCATION:Treffpunkt\, Restaurant Vogelsang\, Eich
DESCRIPTION:[gravityform id="10" title="true" description="true"] Einfach online b
SUMMARY:Fraktionsausflug SVP Kanton Luzern
ORGANIZER:WKP Sursee
URL;VALUE=URI:https://www.svp-lu.ch/termine/fraktionsausflug-svp-kanton-luzern-2/
TRANSP:OPAQUE
END:VEVENT
END:VCALENDAR
