BEGIN:VCALENDAR
VERSION:2.0
PRODID:-//SVP Luzern //NONSGML Events //EN
CALSCALE:GREGORIAN
X-WR-CALNAME:SVP Luzern
BEGIN:VEVENT
CREATED:20191029T094933Z
UID:16195
DTEND:20200923T220000
DTSTART:20200923T160000
DTSTAMP:20231024T055211Z
LOCATION:Wahlkreis Sursee
DESCRIPTION:
SUMMARY:GL-Sitzung 2020/08
ORGANIZER:
URL;VALUE=URI:https://www.svp-lu.ch/termine/gl-sitzung-2020-06/
TRANSP:OPAQUE
END:VEVENT
END:VCALENDAR
