BEGIN:VCALENDAR
VERSION:2.0
PRODID:-//SVP Luzern //NONSGML Events //EN
CALSCALE:GREGORIAN
X-WR-CALNAME:SVP Luzern
BEGIN:VEVENT
CREATED:20191029T094933Z
UID:16198
DTEND:20201011T000000
DTSTART:20200926T000000
DTSTAMP:20231024T055742Z
LOCATION:
DESCRIPTION:
SUMMARY:Schulferien Kanton Luzern
ORGANIZER:
URL;VALUE=URI:https://www.svp-lu.ch/termine/schulferien-kanton-luzern-13/
TRANSP:OPAQUE
END:VEVENT
END:VCALENDAR
