BEGIN:VCALENDAR
VERSION:2.0
PRODID:-//SVP Luzern //NONSGML Events //EN
CALSCALE:GREGORIAN
X-WR-CALNAME:SVP Luzern
BEGIN:VEVENT
CREATED:20191029T094933Z
UID:16199
DTEND:20200927T000000
DTSTART:20200927T000000
DTSTAMP:20231024T060126Z
LOCATION:
DESCRIPTION:Folgende Abstimmungen finden statt; Kantonale Abstimmung: Volksinitiat
SUMMARY:Eidg. und Kant. Abstimmungen
ORGANIZER:
URL;VALUE=URI:https://www.svp-lu.ch/termine/eidg-und-kant-abstimmungen-6/
TRANSP:OPAQUE
END:VEVENT
END:VCALENDAR
