BEGIN:VCALENDAR
VERSION:2.0
PRODID:-//SVP Luzern //NONSGML Events //EN
CALSCALE:GREGORIAN
X-WR-CALNAME:SVP Luzern
BEGIN:VEVENT
CREATED:20191029T094933Z
UID:16201
DTEND:20201020T220000
DTSTART:20201020T160000
DTSTAMP:20231024T055909Z
LOCATION:WK Hochdorf
DESCRIPTION:
SUMMARY:GL-Sitzung 2020/09
ORGANIZER:
URL;VALUE=URI:https://www.svp-lu.ch/termine/gl-sitzung-2020-06-2/
TRANSP:OPAQUE
END:VEVENT
END:VCALENDAR
