BEGIN:VCALENDAR
VERSION:2.0
PRODID:-//SVP Luzern //NONSGML Events //EN
CALSCALE:GREGORIAN
X-WR-CALNAME:SVP Luzern
BEGIN:VEVENT
CREATED:20191029T094933Z
UID:16202
DTEND:20201021T000000
DTSTART:20201021T000000
DTSTAMP:20231024T055415Z
LOCATION:WK Luzern Land
DESCRIPTION:
SUMMARY:Kant. Fraktionssitzung
ORGANIZER:
URL;VALUE=URI:https://www.svp-lu.ch/termine/kant-fraktionssitzung-13/
TRANSP:OPAQUE
END:VEVENT
END:VCALENDAR
