BEGIN:VCALENDAR
VERSION:2.0
PRODID:-//SVP Luzern //NONSGML Events //EN
CALSCALE:GREGORIAN
X-WR-CALNAME:SVP Luzern
BEGIN:VEVENT
CREATED:20191029T094933Z
UID:16207
DTEND:20201023T000000
DTSTART:20201023T000000
DTSTAMP:20231024T060248Z
LOCATION:Obergoms VS
DESCRIPTION:
SUMMARY:Parteileitung SVP CH
ORGANIZER:
URL;VALUE=URI:https://www.svp-lu.ch/termine/parteileitung-svp-ch-5/
TRANSP:OPAQUE
END:VEVENT
END:VCALENDAR
