BEGIN:VCALENDAR
VERSION:2.0
PRODID:-//SVP Luzern //NONSGML Events //EN
CALSCALE:GREGORIAN
X-WR-CALNAME:SVP Luzern
BEGIN:VEVENT
CREATED:20191029T094934Z
UID:16209
DTEND:20201101T000000
DTSTART:20201101T000000
DTSTAMP:20231024T054922Z
LOCATION:
DESCRIPTION:
SUMMARY:Allerheiligen
ORGANIZER:
URL;VALUE=URI:https://www.svp-lu.ch/termine/allerheiligen-2/
TRANSP:OPAQUE
END:VEVENT
END:VCALENDAR
