BEGIN:VCALENDAR
VERSION:2.0
PRODID:-//SVP Luzern //NONSGML Events //EN
CALSCALE:GREGORIAN
X-WR-CALNAME:SVP Luzern
BEGIN:VEVENT
CREATED:20191029T094934Z
UID:16211
DTEND:20201024T103000
DTSTART:20201024T103000
DTSTAMP:20231024T060014Z
LOCATION:Brig\, Simplonhalle
DESCRIPTION:
SUMMARY:Eidg. Delegiertenversammlung
ORGANIZER:
URL;VALUE=URI:https://www.svp-lu.ch/termine/eidg-delegiertenversammlung-8/
TRANSP:OPAQUE
END:VEVENT
END:VCALENDAR
