BEGIN:VCALENDAR
VERSION:2.0
PRODID:-//SVP Luzern //NONSGML Events //EN
CALSCALE:GREGORIAN
X-WR-CALNAME:SVP Luzern
BEGIN:VEVENT
CREATED:20191029T094934Z
UID:16216
DTEND:20201119T000000
DTSTART:20201119T000000
DTSTAMP:20231024T060328Z
LOCATION:Rest. Vogelsang\, Eich
DESCRIPTION:
SUMMARY:Sitzung Parteileitung 2020/04
ORGANIZER:
URL;VALUE=URI:https://www.svp-lu.ch/termine/sitzung-parteileitung-2020-08/
TRANSP:OPAQUE
END:VEVENT
END:VCALENDAR
