BEGIN:VCALENDAR
VERSION:2.0
PRODID:-//SVP Luzern //NONSGML Events //EN
CALSCALE:GREGORIAN
X-WR-CALNAME:SVP Luzern
BEGIN:VEVENT
CREATED:20191029T094934Z
UID:16218
DTEND:20201116T220000
DTSTART:20201116T190000
DTSTAMP:20231024T055214Z
LOCATION:WK Stadt Luzern
DESCRIPTION:
SUMMARY:GL-Sitzung 2020/10
ORGANIZER:
URL;VALUE=URI:https://www.svp-lu.ch/termine/gl-sitzung-2020-08/
TRANSP:OPAQUE
END:VEVENT
END:VCALENDAR
