BEGIN:VCALENDAR
VERSION:2.0
PRODID:-//SVP Luzern //NONSGML Events //EN
CALSCALE:GREGORIAN
X-WR-CALNAME:SVP Luzern
BEGIN:VEVENT
CREATED:20191029T094934Z
UID:16223
DTEND:20201201T000000
DTSTART:20201201T000000
DTSTAMP:20231024T055156Z
LOCATION:Luzern
DESCRIPTION:
SUMMARY:ABGESAGT &#8211\; Gottesdienst Kantonsrat
ORGANIZER:
URL;VALUE=URI:https://www.svp-lu.ch/termine/gottesdienst-kantonsrat-2/
TRANSP:OPAQUE
END:VEVENT
END:VCALENDAR
