BEGIN:VCALENDAR
VERSION:2.0
PRODID:-//SVP Luzern //NONSGML Events //EN
CALSCALE:GREGORIAN
X-WR-CALNAME:SVP Luzern
BEGIN:VEVENT
CREATED:20191029T094934Z
UID:16225
DTEND:20201209T000000
DTSTART:20201209T000000
DTSTAMP:20231024T055330Z
LOCATION:Bern
DESCRIPTION:
SUMMARY:ABGESAGT &#8211\; Fraktionsessen
ORGANIZER:
URL;VALUE=URI:https://www.svp-lu.ch/termine/fraktionsessen-3/
TRANSP:OPAQUE
END:VEVENT
END:VCALENDAR
