BEGIN:VCALENDAR
VERSION:2.0
PRODID:-//SVP Luzern //NONSGML Events //EN
CALSCALE:GREGORIAN
X-WR-CALNAME:SVP Luzern
BEGIN:VEVENT
CREATED:20191029T094935Z
UID:16230
DTEND:20200103T000000
DTSTART:20201219T000000
DTSTAMP:20231024T055959Z
LOCATION:
DESCRIPTION:
SUMMARY:Schulferien Kanton Luzern
ORGANIZER:
URL;VALUE=URI:https://www.svp-lu.ch/termine/schulferien-kanton-luzern-14/
TRANSP:OPAQUE
END:VEVENT
END:VCALENDAR
