BEGIN:VCALENDAR
VERSION:2.0
PRODID:-//SVP Luzern //NONSGML Events //EN
CALSCALE:GREGORIAN
X-WR-CALNAME:SVP Luzern
BEGIN:VEVENT
CREATED:20191029T094935Z
UID:16231
DTEND:20201224T000000
DTSTART:20201224T000000
DTSTAMP:20231024T055947Z
LOCATION:
DESCRIPTION:
SUMMARY:Heiliger Abend
ORGANIZER:
URL;VALUE=URI:https://www.svp-lu.ch/termine/heiliger-abend-2/
TRANSP:OPAQUE
END:VEVENT
END:VCALENDAR
