BEGIN:VCALENDAR
VERSION:2.0
PRODID:-//SVP Luzern //NONSGML Events //EN
CALSCALE:GREGORIAN
X-WR-CALNAME:SVP Luzern
BEGIN:VEVENT
CREATED:20191029T094935Z
UID:16232
DTEND:20201225T000000
DTSTART:20201225T000000
DTSTAMP:20231024T055617Z
LOCATION:
DESCRIPTION:
SUMMARY:Weihnachten
ORGANIZER:
URL;VALUE=URI:https://www.svp-lu.ch/termine/weihnachten-2/
TRANSP:OPAQUE
END:VEVENT
END:VCALENDAR
