BEGIN:VCALENDAR
VERSION:2.0
PRODID:-//SVP Luzern //NONSGML Events //EN
CALSCALE:GREGORIAN
X-WR-CALNAME:SVP Luzern
BEGIN:VEVENT
CREATED:20191029T094935Z
UID:16233
DTEND:20201226T000000
DTSTART:20201226T000000
DTSTAMP:20231024T060200Z
LOCATION:
DESCRIPTION:
SUMMARY:Stephanstag
ORGANIZER:
URL;VALUE=URI:https://www.svp-lu.ch/termine/stephanstag-2/
TRANSP:OPAQUE
END:VEVENT
END:VCALENDAR
