BEGIN:VCALENDAR
VERSION:2.0
PRODID:-//SVP Luzern //NONSGML Events //EN
CALSCALE:GREGORIAN
X-WR-CALNAME:SVP Luzern
BEGIN:VEVENT
CREATED:20191029T094935Z
UID:16234
DTEND:20201231T000000
DTSTART:20201231T000000
DTSTAMP:20231024T055035Z
LOCATION:
DESCRIPTION:
SUMMARY:Silvester
ORGANIZER:
URL;VALUE=URI:https://www.svp-lu.ch/termine/silvester-2/
TRANSP:OPAQUE
END:VEVENT
END:VCALENDAR
