BEGIN:VCALENDAR
VERSION:2.0
PRODID:-//SVP Luzern //NONSGML Events //EN
CALSCALE:GREGORIAN
X-WR-CALNAME:SVP Luzern
BEGIN:VEVENT
CREATED:20191108T222439Z
UID:16318
DTEND:20191120T220000
DTSTART:20191120T200000
DTSTAMP:20231024T060343Z
LOCATION:Bühlmann Maschinenbau AG | Industrie Süd 6 | 6105 Schachen
DESCRIPTION:Referat von Andreas Glarner, Nationalrat, SVP/AG „WIE WEITER MIT DER
SUMMARY:Referat mit Andreas Glarner
ORGANIZER:SVP Werthenstein
URL;VALUE=URI:https://www.svp-lu.ch/termine/oeffentliche-veranstaltung/
TRANSP:OPAQUE
END:VEVENT
END:VCALENDAR
