BEGIN:VCALENDAR
VERSION:2.0
PRODID:-//SVP Luzern //NONSGML Events //EN
CALSCALE:GREGORIAN
X-WR-CALNAME:SVP Luzern
BEGIN:VEVENT
CREATED:20191113T080942Z
UID:16322
DTEND:20200430T000000
DTSTART:20200430T000000
DTSTAMP:20231024T055222Z
LOCATION:
DESCRIPTION:
SUMMARY:NEU Eingabe Gemeinderatswahlen 2. Wahlgang
ORGANIZER:
URL;VALUE=URI:https://www.svp-lu.ch/termine/eingabe-gemeinderatswahlen-2-wahlgang/
TRANSP:OPAQUE
END:VEVENT
END:VCALENDAR
