BEGIN:VCALENDAR
VERSION:2.0
PRODID:-//SVP Luzern //NONSGML Events //EN
CALSCALE:GREGORIAN
X-WR-CALNAME:SVP Luzern
BEGIN:VEVENT
CREATED:20191121T085530Z
UID:16347
DTEND:20191206T180000
DTSTART:20191206T083000
DTSTAMP:20231024T055811Z
LOCATION:beim Obertor im Städtli
DESCRIPTION:
SUMMARY:Chlausmärt in Sursee
ORGANIZER:SVP Stadt Luzern
URL;VALUE=URI:https://www.svp-lu.ch/termine/chlausmaert-in-sursee/
TRANSP:OPAQUE
END:VEVENT
END:VCALENDAR
