BEGIN:VCALENDAR
VERSION:2.0
PRODID:-//SVP Luzern //NONSGML Events //EN
CALSCALE:GREGORIAN
X-WR-CALNAME:SVP Luzern
BEGIN:VEVENT
CREATED:20191122T081603Z
UID:16355
DTEND:20200118T100000
DTSTART:20200118T081500
DTSTAMP:20231024T060150Z
LOCATION:Gemeindezentrum Schenkon
DESCRIPTION:Einladung_Frauentagung_2020-18-01 Im Rahmen des Kadertages 2020 gibt e
SUMMARY:Kadertagung 1. Teil (Frauen) SVP Kanton Luzern
ORGANIZER:SVP Kanton Luzern
URL;VALUE=URI:https://www.svp-lu.ch/termine/frauenanlass-svp-kanton-luzern/
TRANSP:OPAQUE
END:VEVENT
END:VCALENDAR
