BEGIN:VCALENDAR
VERSION:2.0
PRODID:-//SVP Luzern //NONSGML Events //EN
CALSCALE:GREGORIAN
X-WR-CALNAME:SVP Luzern
BEGIN:VEVENT
CREATED:20191208T080515Z
UID:16421
DTEND:20201125T183000
DTSTART:20201125T140000
DTSTAMP:20231024T060313Z
LOCATION:WK Entlebuch
DESCRIPTION:
SUMMARY:Kant. Fraktionssitzung
ORGANIZER:
URL;VALUE=URI:https://www.svp-lu.ch/termine/fraktionssitzung-2/
TRANSP:OPAQUE
END:VEVENT
END:VCALENDAR
