BEGIN:VCALENDAR
VERSION:2.0
PRODID:-//SVP Luzern //NONSGML Events //EN
CALSCALE:GREGORIAN
X-WR-CALNAME:SVP Luzern
BEGIN:VEVENT
CREATED:20191217T082640Z
UID:16451
DTEND:20191222T200000
DTSTART:20191222T190000
DTSTAMP:20231024T055509Z
LOCATION:Hotel Schweizerhof (Halle)\, Luzern
DESCRIPTION:
SUMMARY:Sessionsrückblick mit NR Yvette Estermann
ORGANIZER:
URL;VALUE=URI:https://www.svp-lu.ch/termine/sessionsrueckblick-mit-nr-yvette-estermann-2/
TRANSP:OPAQUE
END:VEVENT
END:VCALENDAR
