BEGIN:VCALENDAR
VERSION:2.0
PRODID:-//SVP Luzern //NONSGML Events //EN
CALSCALE:GREGORIAN
X-WR-CALNAME:SVP Luzern
BEGIN:VEVENT
CREATED:20200127T084750Z
UID:16519
DTEND:20200207T220000
DTSTART:20200207T193000
DTSTAMP:20231024T055433Z
LOCATION:Restaurant Bad\, Schüpfheim
DESCRIPTION:Einladung GV 2020
SUMMARY:GV WKP Entlebuch
ORGANIZER:SVP Wahlkreis Entlebuch
URL;VALUE=URI:https://www.svp-lu.ch/termine/gv-wkp-entlebuch/
TRANSP:OPAQUE
END:VEVENT
END:VCALENDAR
