BEGIN:VCALENDAR
VERSION:2.0
PRODID:-//SVP Luzern //NONSGML Events //EN
CALSCALE:GREGORIAN
X-WR-CALNAME:SVP Luzern
BEGIN:VEVENT
CREATED:20200127T085007Z
UID:16522
DTEND:20200306T200000
DTSTART:20200306T193000
DTSTAMP:20231024T055254Z
LOCATION:Restaurant Cavallino\, Hauptstrasse 3\, 6170 Schüpfheim
DESCRIPTION:
SUMMARY:Gründung JSVP Entlebuch
ORGANIZER:SVP Wahlkreis Entlebuch
URL;VALUE=URI:https://www.svp-lu.ch/termine/gruendung-jsvp-entlebuch/
TRANSP:OPAQUE
END:VEVENT
END:VCALENDAR
