BEGIN:VCALENDAR
VERSION:2.0
PRODID:-//SVP Luzern //NONSGML Events //EN
CALSCALE:GREGORIAN
X-WR-CALNAME:SVP Luzern
BEGIN:VEVENT
CREATED:20200212T145013Z
UID:16584
DTEND:20200519T200000
DTSTART:20200519T193000
DTSTAMP:20231024T055011Z
LOCATION:wird im Zirkularverfahren durchgeführt
DESCRIPTION:wird im Zirkularverfahren durchgeführt
SUMMARY:Generalversammlung Wahlkreis Sursee
ORGANIZER:SVP Wahlkreis Sursee
URL;VALUE=URI:https://www.svp-lu.ch/termine/generalversammlung-wahlkreis-sursee/
TRANSP:OPAQUE
END:VEVENT
END:VCALENDAR
