BEGIN:VCALENDAR
VERSION:2.0
PRODID:-//SVP Luzern //NONSGML Events //EN
CALSCALE:GREGORIAN
X-WR-CALNAME:SVP Luzern
BEGIN:VEVENT
CREATED:20200321T154557Z
UID:17122
DTEND:20200329T200000
DTSTART:20200329T193000
DTSTAMP:20231024T060400Z
LOCATION:Hotel Schweizerhof
DESCRIPTION:
SUMMARY:ABGESAGT Bericht aus der Session mit Yvette Estermann
ORGANIZER:Yvette Estermann
URL;VALUE=URI:https://www.svp-lu.ch/termine/abgesagt-bericht-aus-der-session/
TRANSP:OPAQUE
END:VEVENT
END:VCALENDAR
