BEGIN:VCALENDAR
VERSION:2.0
PRODID:-//SVP Luzern //NONSGML Events //EN
CALSCALE:GREGORIAN
X-WR-CALNAME:SVP Luzern
BEGIN:VEVENT
CREATED:20200424T060850Z
UID:17279
DTEND:20200829T110000
DTSTART:20200829T090000
DTSTAMP:20231024T055325Z
LOCATION:Schulanlage / MZH\, Dorfstrasse\, 6205 Eich
DESCRIPTION:Die kantonale Generalversammlung findet neu am Samstag 29. August stat
SUMMARY:Kantonale Generalversammlung
ORGANIZER:SVP Wahlkreis Sursee
URL;VALUE=URI:https://www.svp-lu.ch/termine/kantonale-generalversammlung/
TRANSP:OPAQUE
END:VEVENT
END:VCALENDAR
