BEGIN:VCALENDAR
VERSION:2.0
PRODID:-//SVP Luzern //NONSGML Events //EN
CALSCALE:GREGORIAN
X-WR-CALNAME:SVP Luzern
BEGIN:VEVENT
CREATED:20200710T211931Z
UID:17606
DTEND:20200817T220000
DTSTART:20200817T200000
DTSTAMP:20231024T055209Z
LOCATION:Schlossschür in Willisau
DESCRIPTION:
SUMMARY:Öffentliches Podium zur Begrenzungsinitiative
ORGANIZER:WKP Willisau
URL;VALUE=URI:https://www.svp-lu.ch/termine/oeffentliches-podium-zur-begrenzungsinitiative/
TRANSP:OPAQUE
END:VEVENT
END:VCALENDAR
