BEGIN:VCALENDAR
VERSION:2.0
PRODID:-//SVP Luzern //NONSGML Events //EN
CALSCALE:GREGORIAN
X-WR-CALNAME:SVP Luzern
BEGIN:VEVENT
CREATED:20200820T222746Z
UID:17800
DTEND:20200922T000000
DTSTART:20200922T000000
DTSTAMP:20231024T060303Z
LOCATION:Gisikon
DESCRIPTION:
SUMMARY:MItgliederversammlung Wahlkreis Luzern Land
ORGANIZER:SVP Wahlkreis Luzern Land
URL;VALUE=URI:https://www.svp-lu.ch/termine/mitgliederversammlung-wahlkreis-luzern-land/
TRANSP:OPAQUE
END:VEVENT
END:VCALENDAR
