BEGIN:VCALENDAR
VERSION:2.0
PRODID:-//SVP Luzern //NONSGML Events //EN
CALSCALE:GREGORIAN
X-WR-CALNAME:SVP Luzern
BEGIN:VEVENT
CREATED:20200821T204448Z
UID:17808
DTEND:20200902T220000
DTSTART:20200902T200000
DTSTAMP:20231024T054946Z
LOCATION:Gemeindesaal Adler\, 6170 Schüpfheim
DESCRIPTION:
SUMMARY:Öffentliches Podium in Schüpfheim
ORGANIZER:SVP Wahlkreis Entlebuch
URL;VALUE=URI:https://www.svp-lu.ch/termine/oeffentliches-podium-in-schuepfheim/
TRANSP:OPAQUE
END:VEVENT
END:VCALENDAR
