BEGIN:VCALENDAR
VERSION:2.0
PRODID:-//SVP Luzern //NONSGML Events //EN
CALSCALE:GREGORIAN
X-WR-CALNAME:SVP Luzern
BEGIN:VEVENT
CREATED:20200830T163110Z
UID:17921
DTEND:20200912T120000
DTSTART:20200912T090000
DTSTAMP:20231024T055608Z
LOCATION:Denner Menznau
DESCRIPTION:
SUMMARY:Standaktion Begrenzungsinitiative
ORGANIZER:SVP Menznau
URL;VALUE=URI:https://www.svp-lu.ch/termine/standaktion-begrenzungsinitiative/
TRANSP:OPAQUE
END:VEVENT
END:VCALENDAR
