BEGIN:VCALENDAR
VERSION:2.0
PRODID:-//SVP Luzern //NONSGML Events //EN
CALSCALE:GREGORIAN
X-WR-CALNAME:SVP Luzern
BEGIN:VEVENT
CREATED:20200911T102300Z
UID:18038
DTEND:20200922T220000
DTSTART:20200922T193000
DTSTAMP:20231024T060209Z
LOCATION:Hotel Monopol\, Pilatusstrasse 1\, 6002 Luzern
DESCRIPTION:Ja zur Schweiz Degeneriert die Eidgenossenschaft zur links-grünen Vol
SUMMARY:Referat Dr. Ulrich Schlüer
ORGANIZER:Schweizerzeit
URL;VALUE=URI:https://www.svp-lu.ch/termine/referat-dr-ulrich-schlueer/
TRANSP:OPAQUE
END:VEVENT
END:VCALENDAR
