BEGIN:VCALENDAR
VERSION:2.0
PRODID:-//SVP Luzern //NONSGML Events //EN
CALSCALE:GREGORIAN
X-WR-CALNAME:SVP Luzern
BEGIN:VEVENT
CREATED:20200929T110608Z
UID:19040
DTEND:20210101T000000
DTSTART:20210101T000000
DTSTAMP:20231024T055449Z
LOCATION:
DESCRIPTION:
SUMMARY:Neujahrstag
ORGANIZER:
URL;VALUE=URI:https://www.svp-lu.ch/termine/neujahrstag-3/
TRANSP:OPAQUE
END:VEVENT
END:VCALENDAR
