BEGIN:VCALENDAR
VERSION:2.0
PRODID:-//SVP Luzern //NONSGML Events //EN
CALSCALE:GREGORIAN
X-WR-CALNAME:SVP Luzern
BEGIN:VEVENT
CREATED:20200929T110608Z
UID:19041
DTEND:20210102T000000
DTSTART:20210102T000000
DTSTAMP:20231024T060438Z
LOCATION:
DESCRIPTION:
SUMMARY:Berchtoldstag
ORGANIZER:
URL;VALUE=URI:https://www.svp-lu.ch/termine/berchtoldstag-3/
TRANSP:OPAQUE
END:VEVENT
END:VCALENDAR
