BEGIN:VCALENDAR
VERSION:2.0
PRODID:-//SVP Luzern //NONSGML Events //EN
CALSCALE:GREGORIAN
X-WR-CALNAME:SVP Luzern
BEGIN:VEVENT
CREATED:20200929T110608Z
UID:19043
DTEND:20210108T130000
DTSTART:20210108T120000
DTSTAMP:20231024T055949Z
LOCATION:
DESCRIPTION:
SUMMARY:Redaktionsschluss SVP NEWS (Januar)
ORGANIZER:
URL;VALUE=URI:https://www.svp-lu.ch/termine/redaktionsschluss-svp-news-januar/
TRANSP:OPAQUE
END:VEVENT
END:VCALENDAR
