BEGIN:VCALENDAR
VERSION:2.0
PRODID:-//SVP Luzern //NONSGML Events //EN
CALSCALE:GREGORIAN
X-WR-CALNAME:SVP Luzern
BEGIN:VEVENT
CREATED:20200929T110608Z
UID:19045
DTEND:20210112T213000
DTSTART:20210112T163000
DTSTAMP:20231024T055949Z
LOCATION:tbd
DESCRIPTION:Die GL-Sitzung mit dem WK Willisau wird auf die Mai Sitzung verschoben
SUMMARY:GL-Sitzung 2020/01
ORGANIZER:GL
URL;VALUE=URI:https://www.svp-lu.ch/termine/gl-sitzung-2020-01-2/
TRANSP:OPAQUE
END:VEVENT
END:VCALENDAR
