BEGIN:VCALENDAR
VERSION:2.0
PRODID:-//SVP Luzern //NONSGML Events //EN
CALSCALE:GREGORIAN
X-WR-CALNAME:SVP Luzern
BEGIN:VEVENT
CREATED:20200929T110609Z
UID:19046
DTEND:20210116T130000
DTSTART:20210116T100000
DTSTAMP:20231024T055159Z
LOCATION:
DESCRIPTION:ist auf unbestimmte Zeit verschoben
SUMMARY:abgesagt Kadertag
ORGANIZER:
URL;VALUE=URI:https://www.svp-lu.ch/termine/kadertagung-svp-kanton-luzern-3/
TRANSP:OPAQUE
END:VEVENT
END:VCALENDAR
