BEGIN:VCALENDAR
VERSION:2.0
PRODID:-//SVP Luzern //NONSGML Events //EN
CALSCALE:GREGORIAN
X-WR-CALNAME:SVP Luzern
BEGIN:VEVENT
CREATED:20200929T110609Z
UID:19047
DTEND:20210120T180000
DTSTART:20210120T140000
DTSTAMP:20231024T054911Z
LOCATION:WK Stadt Luzern
DESCRIPTION:
SUMMARY:Kant. Fraktionssitzung
ORGANIZER:WK Stadt Luzern
URL;VALUE=URI:https://www.svp-lu.ch/termine/kant-fraktionssitzung-14/
TRANSP:OPAQUE
END:VEVENT
END:VCALENDAR
