BEGIN:VCALENDAR
VERSION:2.0
PRODID:-//SVP Luzern //NONSGML Events //EN
CALSCALE:GREGORIAN
X-WR-CALNAME:SVP Luzern
BEGIN:VEVENT
CREATED:20200929T110609Z
UID:19048
DTEND:20210121T000000
DTSTART:20210121T000000
DTSTAMP:20231024T055801Z
LOCATION:
DESCRIPTION:
SUMMARY:Einwohnerratssitzung Kriens
ORGANIZER:
URL;VALUE=URI:https://www.svp-lu.ch/termine/einwohnerratssitzung-kriens-10/
TRANSP:OPAQUE
END:VEVENT
END:VCALENDAR
