BEGIN:VCALENDAR
VERSION:2.0
PRODID:-//SVP Luzern //NONSGML Events //EN
CALSCALE:GREGORIAN
X-WR-CALNAME:SVP Luzern
BEGIN:VEVENT
CREATED:20200929T110609Z
UID:19050
DTEND:20210128T220000
DTSTART:20210128T193000
DTSTAMP:20231024T060419Z
LOCATION:Rest. Vogelsang\, Eich
DESCRIPTION:
SUMMARY:Digitale Sitzung Parteileitung 2021/01
ORGANIZER:
URL;VALUE=URI:https://www.svp-lu.ch/termine/sitzung-parteileitung-2021-01/
TRANSP:OPAQUE
END:VEVENT
END:VCALENDAR
