BEGIN:VCALENDAR
VERSION:2.0
PRODID:-//SVP Luzern //NONSGML Events //EN
CALSCALE:GREGORIAN
X-WR-CALNAME:SVP Luzern
BEGIN:VEVENT
CREATED:20200929T110609Z
UID:19051
DTEND:20210129T140000
DTSTART:20210129T130000
DTSTAMP:20231024T055705Z
LOCATION:
DESCRIPTION:
SUMMARY:Parteileitung SVP CH
ORGANIZER:
URL;VALUE=URI:https://www.svp-lu.ch/termine/parteileitung-svp-ch-6/
TRANSP:OPAQUE
END:VEVENT
END:VCALENDAR
